Workbook

Sheet 1.Bang Tong Hop TMDT
B2: TỔNG CÔNG TY CỔ PHẦN PHÁT TRIỂN BẤT ĐỘNG SẢN VĂN PHÚ (VPI)
B3: DỰ ÁN CẢI TẠO XÂY DỰNG LẠI KHU TẬP THỂ TRƯƠNG ĐỊNH (MÃ DỰ ÁN: 01HNI023)
B4: BẢNG TỔNG HỢP CHI PHÍ XÂY DỰNG & TỔNG MỨC ĐẦU TƯ ĐỘNG (BẢNG CÂY HỢP NHẤT)
B5: Quy mô: 119.876,45 m2 sàn XD (Hầm 28.540 m2, CT1 TĐC 45.372 m2, CT2 TM 74.505 m2, Hạ tầng 13.757 m2 đất, 1.065 căn hộ)
B7: STT / Mã Hiệu | C7: Khoản Mục Chi Phí & Cấu Phần Công Trình | D7: Căn Cứ & Công Thức Xác Định | E7: ĐVT | F7: Tòa CT1 - Tái Định Cư (45.371,85 m2) | G7: Suất CT1 (đ/m2) | H7: Tòa CT2 - Thương Mại (74.504,60 m2) | I7: Suất CT2 (đ/m2) | J7: Hạ Tầng Kỹ Thuật (13.757 m2 đất) | K7: Tổng Toàn Dự Án (đồng) | L7: Suất Toàn Khu (đ/m2) | M7: Tỷ Trọng (%)
B8: I | C8: CHI PHÍ XÂY DỰNG VÀ THIẾT BỊ (Gxd + Gtb) | D8: Tổng hợp từ 7 Khối công tác thi công xây lắp & thiết bị | E8: đồng | F8: =SUM(F9:F15) -> 825920000000 | G8: =F8/45371.85 -> 18203357 | H8: =SUM(H9:H15) -> 1499300000000 | I8: =H8/74504.6 -> 20123590 | J8: =SUM(J9:J15) -> 51072044799 | K8: =SUM(K9:K15) -> 2376292044799 | L8: =K8/119876.45 -> 19822843 | M8: =K8/$K$47 -> 0.86590703
B9: 1 | C9: Cọc khoan nhồi đại trà & Tường vây hầm | D9: Link Bộ môn 1 (Mục 1.1) | E9: đồng | F9: ='2.Tieu Chuan Ban Giao'!H10 -> 116180000000 | G9: =F9/45371.85 -> 2560618.5 | H9: ='2.Tieu Chuan Ban Giao'!L10 -> 190580000000 | I9: =H9/74504.6 -> 2557962.9 | J9: ='2.Tieu Chuan Ban Giao'!M10 -> 0 | K9: =F9+H9+J9 -> 306760000000 | L9: =K9/119876.45 -> 2558968 | M9: =K9/$K$47 -> 0.11178156
B10: 2 | C10: Đào đất móng ngầm & Kết cấu BTCT hầm | D10: Link Bộ môn 1 (Mục 1.2) | E10: đồng | F10: ='2.Tieu Chuan Ban Giao'!H11 -> 94320000000 | G10: =F10/45371.85 -> 2078822 | H10: ='2.Tieu Chuan Ban Giao'!L11 -> 154720000000 | I10: =H10/74504.6 -> 2076650.3 | J10: ='2.Tieu Chuan Ban Giao'!M11 -> 0 | K10: =F10+H10+J10 -> 249040000000 | L10: =K10/119876.45 -> 2077472.3 | M10: =K10/$K$47 -> 0.09074873
B11: 3 | C11: Khung BTCT phần thân (cột, dầm, sàn, lõi) | D11: Link Bộ môn 1 (Mục 1.3) | E11: đồng | F11: ='2.Tieu Chuan Ban Giao'!H12 -> 162600000000 | G11: =F11/45371.85 -> 3583719.9 | H11: ='2.Tieu Chuan Ban Giao'!L12 -> 266720000000 | I11: =H11/74504.6 -> 3579913.2 | J11: ='2.Tieu Chuan Ban Giao'!M12 -> 0 | K11: =F11+H11+J11 -> 429320000000 | L11: =K11/119876.45 -> 3581354 | M11: =K11/$K$47 -> 0.15644172
B12: 4 | C12: Xây thô & hoàn thiện cơ bản (tường, trát, láng, thạch cao, sơn) | D12: Link Bộ môn 2 (Mục 2.1 + 2.2) | E12: đồng | F12: ='2.Tieu Chuan Ban Giao'!H14+'2.Tieu Chuan Ban Giao'!H15 -> 71340000000 | G12: =F12/45371.85 -> 1572340.6 | H12: ='2.Tieu Chuan Ban Giao'!L14+'2.Tieu Chuan Ban Giao'!L15 -> 117030000000 | I12: =H12/74504.6 -> 1570775.5 | J12: ='2.Tieu Chuan Ban Giao'!M14+'2.Tieu Chuan Ban Giao'!M15 -> 0 | K12: =F12+H12+J12 -> 188370000000 | L12: =K12/119876.45 -> 1571367.9 | M12: =K12/$K$47 -> 0.068640934
B13: 5 | C13: Hoàn thiện nội thất & Bao che (cửa, kính, lát sàn, tủ bếp) | D13: Link Bộ môn 2 (Mục 2.3..2.6) | E13: đồng | F13: =SUM('2.Tieu Chuan Ban Giao'!H16:H19) -> 146110000000 | G13: =F13/45371.85 -> 3220278.7 | H13: =SUM('2.Tieu Chuan Ban Giao'!L16:L19) -> 335530000000 | I13: =H13/74504.6 -> 4503480.3 | J13: =SUM('2.Tieu Chuan Ban Giao'!M16:M19) -> 0 | K13: =F13+H13+J13 -> 481640000000 | L13: =K13/119876.45 -> 4017803.3 | M13: =K13/$K$47 -> 0.17550682
B14: 6 | C14: Hệ thống Cơ điện & Thiết bị công trình (MEP, HVAC, thang máy) | D14: Link Bộ môn 3 (Mục 3.1..3.4) | E14: đồng | F14: =SUM('2.Tieu Chuan Ban Giao'!H21:H24) -> 235370000000 | G14: =F14/45371.85 -> 5187577.8 | H14: =SUM('2.Tieu Chuan Ban Giao'!L21:L24) -> 434720000000 | I14: =H14/74504.6 -> 5834807.5 | J14: =SUM('2.Tieu Chuan Ban Giao'!M21:M24) -> 0 | K14: =F14+H14+J14 -> 670090000000 | L14: =K14/119876.45 -> 5589838.5 | M14: =K14/$K$47 -> 0.24417691
B15: 7 | C15: Hạ tầng kỹ thuật ngoài nhà & Cảnh quan sân vườn | D15: Link Bộ môn 4 (Mục 4.1 + 4.2) | E15: đồng | F15: ='2.Tieu Chuan Ban Giao'!H26+'2.Tieu Chuan Ban Giao'!H27 -> 0 | G15: =F15/45371.85 -> 0 | H15: ='2.Tieu Chuan Ban Giao'!L26+'2.Tieu Chuan Ban Giao'!L27 -> 0 | I15: =H15/74504.6 -> 0 | J15: ='2.Tieu Chuan Ban Giao'!M26+'2.Tieu Chuan Ban Giao'!M27 -> 51072044799 | K15: =F15+H15+J15 -> 51072044799 | L15: =K15/119876.45 -> 426039.02 | M15: =K15/$K$47 -> 0.018610357
B16: II | C16: CHI PHÍ QUẢN LÝ DỰ ÁN (Gqlda) | D16: Định mức NĐ 10/2021: 0,9420% x (Gxd + Gtb) | E16: đồng | F16: =F8*'3.CSDL Don Gia & Delta Options'!$D$10 -> 7780166400 | G16: =F16/45371.85 -> 171475.63 | H16: =H8*'3.CSDL Don Gia & Delta Options'!$D$10 -> 14123406000 | I16: =H16/74504.6 -> 189564.21 | J16: =J8*'3.CSDL Don Gia & Delta Options'!$D$10 -> 4.8109866e+08 | K16: =K8*'3.CSDL Don Gia & Delta Options'!$D$10 -> 2.2384671e+10 | L16: =K16/119876.45 -> 186731.18 | M16: =K16/$K$47 -> 0.0081568442
B17: III | C17: CHI PHÍ TƯ VẤN ĐẦU TƯ XÂY DỰNG (Gtv) | D17: Tổng hợp 12 mục con theo HĐ đã ký & định mức NĐ 10/2021 | E17: đồng | F17: =K17*($F$8/$K$8) -> 1.6278545e+10 | G17: =F17/45371.85 -> 358780.73 | H17: =K17*($H$8/$K$8) -> 2.955059e+10 | I17: =H17/74504.6 -> 396627.72 | J17: =K17*($J$8/$K$8) -> 1.0066091e+09 | K17: =SUM(K18:K29) -> 46835744089 | L17: =K17/119876.45 -> 390700.13 | M17: =K17/$K$47 -> 0.017066673
B18: III.1 | C18: Chi phí thiết kế ý tưởng, lập QHCT 1/500 (HĐ 22/2025) | D18: Hợp đồng đã ký | E18: đồng | F18: =K18*($F$8/$K$8) -> 2.918742e+08 | G18: =F18/45371.85 -> 6432.9357 | H18: =K18*($H$8/$K$8) -> 5.2984185e+08 | I18: =H18/74504.6 -> 7111.532 | J18: =K18*($J$8/$K$8) -> 18048494 | K18: 839764539 | L18: =K18/119876.45 -> 7005.2503 | M18: =K18/$K$47 -> 0.00030600532
B19: III.2 | C19: Đo đạc hiện trạng địa hình | D19: Thực tế dự án | E19: đồng | F19: =K19*($F$8/$K$8) -> 0 | G19: =F19/45371.85 -> 0 | H19: =K19*($H$8/$K$8) -> 0 | I19: =H19/74504.6 -> 0 | J19: =K19*($J$8/$K$8) -> 0 | K19: 0 | L19: =K19/119876.45 -> 0 | M19: =K19/$K$47 -> 0
B20: III.3 | C20: Khảo sát địa chất giai đoạn TKCS (HĐ 1803/2026) | D20: Hợp đồng đã ký | E20: đồng | F20: =K20*($F$8/$K$8) -> 2.4393086e+08 | G20: =F20/45371.85 -> 5376.2601 | H20: =K20*($H$8/$K$8) -> 4.4280989e+08 | I20: =H20/74504.6 -> 5943.39 | J20: =K20*($J$8/$K$8) -> 15083844 | K20: 701824600 | L20: =K20/119876.45 -> 5854.5661 | M20: =K20/$K$47 -> 0.00025574081
B21: III.4 | C21: Khảo sát địa chất giai đoạn BVTC (Chào thầu) | D21: Chào thầu cạnh tranh | E21: đồng | F21: =K21*($F$8/$K$8) -> 4.8659339e+08 | G21: =F21/45371.85 -> 10724.566 | H21: =K21*($H$8/$K$8) -> 8.8331735e+08 | I21: =H21/74504.6 -> 11855.877 | J21: =K21*($J$8/$K$8) -> 30089257 | K21: 1400000000 | L21: =K21/119876.45 -> 11678.691 | M21: =K21/$K$47 -> 0.00051015187
B22: III.5 | C22: Đăng ký môi trường (HĐ đã ký) | D22: Hợp đồng đã ký | E22: đồng | F22: =K22*($F$8/$K$8) -> 54929442 | G22: =F22/45371.85 -> 1210.6503 | H22: =K22*($H$8/$K$8) -> 99713910 | I22: =H22/74504.6 -> 1338.3591 | J22: =K22*($J$8/$K$8) -> 3396647.3 | K22: 158040000 | L22: =K22/119876.45 -> 1318.3574 | M22: =K22/$K$47 -> 5.7588859e-05
B23: III.6 | C23: Đánh giá tác động giao thông (Tạm tính) | D23: Tạm tính khái toán | E23: đồng | F23: =K23*($F$8/$K$8) -> 1.0427001e+08 | G23: =F23/45371.85 -> 2298.1212 | H23: =K23*($H$8/$K$8) -> 1.8928229e+08 | I23: =H23/74504.6 -> 2540.545 | J23: =K23*($J$8/$K$8) -> 6447698 | K23: 300000000 | L23: =K23/119876.45 -> 2502.5766 | M23: =K23/$K$47 -> 0.00010931826
B24: III.7 | C24: Lập BCNCKT BIM LOD 200, BVTC & GSTG (HĐ 2507/2025) | D24: Hợp đồng đã ký | E24: đồng | F24: =K24*($F$8/$K$8) -> 4.6993536e+09 | G24: =F24/45371.85 -> 103574.21 | H24: =K24*($H$8/$K$8) -> 8.5307787e+09 | I24: =H24/74504.6 -> 114500.03 | J24: =K24*($J$8/$K$8) -> 2.9059182e+08 | K24: 13520724120 | L24: =K24/119876.45 -> 112788.83 | M24: =K24/$K$47 -> 0.0049268734
B25: III.8 | C25: Thẩm tra BCNCKT, TKKKT và BVTC (HĐ 0605/2026 & 1505/2026) | D25: Hợp đồng đã ký | E25: đồng | F25: =K25*($F$8/$K$8) -> 5.6305806e+08 | G25: =F25/45371.85 -> 12409.855 | H25: =K25*($H$8/$K$8) -> 1.0221244e+09 | I25: =H25/74504.6 -> 13718.943 | J25: =K25*($J$8/$K$8) -> 34817569 | K25: 1620000000 | L25: =K25/119876.45 -> 13513.914 | M25: =K25/$K$47 -> 0.0005903186
B26: III.9 | C26: Thẩm tra dự toán xây dựng công trình | D26: 0,0440% x Gxd (CSDL!D11) | E26: đồng | F26: =K26*($F$8/$K$8) -> 3.1958661e+08 | G26: =F26/45371.85 -> 7043.7201 | H26: =K26*($H$8/$K$8) -> 5.8014845e+08 | I26: =H26/74504.6 -> 7786.7467 | J26: =K26*($J$8/$K$8) -> 19762134 | K26: =919497194*($K$8/2376292044799) -> 919497194 | L26: =K26/119876.45 -> 7670.3739 | M26: =K26/$K$47 -> 0.00033505944
B27: III.10 | C27: Giám sát thi công xây dựng công trình | D27: 0,7010% x Gxd (CSDL!D12) | E27: đồng | F27: =K27*($F$8/$K$8) -> 5.0915958e+09 | G27: =F27/45371.85 -> 112219.27 | H27: =K27*($H$8/$K$8) -> 9.2428196e+09 | I27: =H27/74504.6 -> 124057.03 | J27: =K27*($J$8/$K$8) -> 3.1484673e+08 | K27: =14649262112*($K$8/2376292044799) -> 14649262112 | L27: =K27/119876.45 -> 122203 | M27: =K27/$K$47 -> 0.0053381061
B28: III.11 | C28: Giám sát lắp đặt thiết bị công trình | D28: 0,2950% x Gtb (CSDL!D13) | E28: đồng | F28: =K28*($F$8/$K$8) -> 2.9377078e+08 | G28: =F28/45371.85 -> 6474.7367 | H28: =K28*($H$8/$K$8) -> 5.3328474e+08 | I28: =H28/74504.6 -> 7157.7425 | J28: =K28*($J$8/$K$8) -> 18165772 | K28: =845221300*($K$8/2376292044799) -> 845221300 | L28: =K28/119876.45 -> 7050.7702 | M28: =K28/$K$47 -> 0.00030799374
B29: III.12 | C29: Tư vấn thiết kế khác & tư vấn đặc thù | D29: 0,5000% x (Gxd + Gtb) (CSDL!D14) | E29: đồng | F29: =K29*($F$8/$K$8) -> 4.1295826e+09 | G29: =F29/45371.85 -> 91016.404 | H29: =K29*($H$8/$K$8) -> 7.4964685e+09 | I29: =H29/74504.6 -> 100617.52 | J29: =K29*($J$8/$K$8) -> 2.5535915e+08 | K29: =11881410224*($K$8/2376292044799) -> 11881410224 | L29: =K29/119876.45 -> 99113.798 | M29: =K29/$K$47 -> 0.0043295169
B30: IV | C30: CHI PHÍ KHÁC (Gk) | D30: Tổng hợp 9 mục con theo quy định & hồ sơ khái toán TMĐT | E30: đồng | F30: =K30*($F$8/$K$8) -> 1.7130967e+10 | G30: =F30/45371.85 -> 377568.19 | H30: =K30*($H$8/$K$8) -> 3.1097999e+10 | I30: =H30/74504.6 -> 417397.03 | J30: =K30*($J$8/$K$8) -> 1.0593199e+09 | K30: =SUM(K31:K39) -> 49288285754 | L30: =K30/119876.45 -> 411159.04 | M30: =K30/$K$47 -> 0.017960365
B31: IV.1 | C31: Bảo hiểm công trình xây dựng | D31: 0,1000% x Gxd (CSDL!D15) | E31: đồng | F31: =K31*($F$8/$K$8) -> 7.2633321e+08 | G31: =F31/45371.85 -> 16008.455 | H31: =K31*($H$8/$K$8) -> 1.3185192e+09 | I31: =H31/74504.6 -> 17697.152 | J31: =K31*($J$8/$K$8) -> 44913941 | K31: =2089766350*($K$8/2376292044799) -> 2089766350 | L31: =K31/119876.45 -> 17432.668 | M31: =K31/$K$47 -> 0.00076149873
B32: IV.2 | C32: Lệ phí thẩm duyệt PCCC | D32: 0,0008% x TMĐT cơ sở (CSDL!D16) | E32: đồng | F32: =K32*($F$8/$K$8) -> 7440479.7 | G32: =F32/45371.85 -> 163.9889 | H32: =K32*($H$8/$K$8) -> 13506770 | I32: =H32/74504.6 -> 181.28773 | J32: =K32*($J$8/$K$8) -> 460093.61 | K32: =21407343*($K$8/2376292044799) -> 21407343 | L32: =K32/119876.45 -> 178.57839 | M32: =K32/$K$47 -> 7.8007115e-06
B33: IV.3 | C33: Lệ phí thẩm định Báo cáo NCKT (Dự án) | D33: 0,0020% x TMĐT cơ sở (CSDL!D17) | E33: đồng | F33: =K33*($F$8/$K$8) -> 19078153 | G33: =F33/45371.85 -> 420.48435 | H33: =K33*($H$8/$K$8) -> 34632742 | I33: =H33/74504.6 -> 464.84032 | J33: =K33*($J$8/$K$8) -> 1179727.2 | K33: =54890622*($K$8/2376292044799) -> 54890622 | L33: =K33/119876.45 -> 457.89329 | M33: =K33/$K$47 -> 2.0001824e-05
B34: IV.4 | C34: Lệ phí thẩm định thiết kế triển khai sau TKCS | D34: 0,0300% x Gxd (CSDL!D18) | E34: đồng | F34: =K34*($F$8/$K$8) -> 2.0175922e+08 | G34: =F34/45371.85 -> 4446.793 | H34: =K34*($H$8/$K$8) -> 3.6625533e+08 | I34: =H34/74504.6 -> 4915.8754 | J34: =K34*($J$8/$K$8) -> 12476095 | K34: =580490653*($K$8/2376292044799) -> 580490653 | L34: =K34/119876.45 -> 4842.4078 | M34: =K34/$K$47 -> 0.00021152742
B35: IV.5 | C35: Lệ phí thẩm định dự toán xây dựng | D35: 0,0290% x Gxd (CSDL!D19) | E35: đồng | F35: =K35*($F$8/$K$8) -> 1.9503392e+08 | G35: =F35/45371.85 -> 4298.5666 | H35: =K35*($H$8/$K$8) -> 3.5404682e+08 | I35: =H35/74504.6 -> 4752.0129 | J35: =K35*($J$8/$K$8) -> 12060225 | K35: =561140964*($K$8/2376292044799) -> 561140964 | L35: =K35/119876.45 -> 4680.9942 | M35: =K35/$K$47 -> 0.00020447651
B36: IV.6 | C36: Kiểm toán độc lập Báo cáo tài chính | D36: 0,1170% x TMĐT cơ sở (CSDL!D20) | E36: đồng | F36: =K36*($F$8/$K$8) -> 1.1160719e+09 | G36: =F36/45371.85 -> 24598.334 | H36: =K36*($H$8/$K$8) -> 2.0260154e+09 | I36: =H36/74504.6 -> 27193.159 | J36: =K36*($J$8/$K$8) -> 69014040 | K36: =3211101396*($K$8/2376292044799) -> 3211101396 | L36: =K36/119876.45 -> 26786.757 | M36: =K36/$K$47 -> 0.0011701067
B37: IV.7 | C37: Thẩm tra, phê duyệt quyết toán vốn đầu tư | D37: 0,0410% x TMĐT cơ sở (CSDL!D21) | E37: đồng | F37: =K37*($F$8/$K$8) -> 3.9110213e+08 | G37: =F37/45371.85 -> 8619.9291 | H37: =K37*($H$8/$K$8) -> 7.0997122e+08 | I37: =H37/74504.6 -> 9529.2266 | J37: =K37*($J$8/$K$8) -> 24184407 | K37: =1125257754*($K$8/2376292044799) -> 1125257754 | L37: =K37/119876.45 -> 9386.8125 | M37: =K37/$K$47 -> 0.00041003739
B38: IV.8 | C38: Chi phí làm căn hộ mẫu bán hàng | D38: Tạm tính hồ sơ khái toán | E38: đồng | F38: =K38*($F$8/$K$8) -> 2.0854002e+09 | G38: =F38/45371.85 -> 45962.425 | H38: =K38*($H$8/$K$8) -> 3.7856458e+09 | I38: =H38/74504.6 -> 50810.9 | J38: =K38*($J$8/$K$8) -> 1.2895396e+08 | K38: 6000000000 | L38: =K38/119876.45 -> 50051.532 | M38: =K38/$K$47 -> 0.0021863652
B39: IV.9 | C39: Đấu nối kỹ thuật & hoàn trả hạ tầng ngoài ranh | D39: 1,5000% x (Gxd + Gtb) (CSDL!D22) | E39: đồng | F39: =K39*($F$8/$K$8) -> 1.2388748e+10 | G39: =F39/45371.85 -> 273049.21 | H39: =K39*($H$8/$K$8) -> 2.2489405e+10 | I39: =H39/74504.6 -> 301852.57 | J39: =K39*($J$8/$K$8) -> 7.6607745e+08 | K39: =35644230672*($K$8/2376292044799) -> 35644230672 | L39: =K39/119876.45 -> 297341.39 | M39: =K39/$K$47 -> 0.012988551
B40: V | C40: CHI PHÍ DỰ PHÒNG (Gdp) | D40: Dự phòng 10% theo quy định Nghị định 10/2021 | E40: đồng | F40: =SUM(F41:F42) -> 8.6710968e+10 | G40: =F40/45371.85 -> 1911118.2 | H40: =SUM(H41:H42) -> 1.574072e+11 | I40: =H40/74504.6 -> 2112717.9 | J40: =SUM(J41:J42) -> 5.3619073e+09 | K40: =SUM(K41:K42) -> 2.4948007e+11 | L40: =K40/119876.45 -> 2081143.3 | M40: =K40/$K$47 -> 0.090909091
B41: V.1 | C41: Dự phòng yếu tố khối lượng công việc phát sinh | D41: 10,0% x (I + II + III + IV) (CSDL!D23) | E41: đồng | F41: =K41*($F$8/$K$8) -> 8.6710968e+10 | G41: =F41/45371.85 -> 1911118.2 | H41: =K41*($H$8/$K$8) -> 1.574072e+11 | I41: =H41/74504.6 -> 2112717.9 | J41: =K41*($J$8/$K$8) -> 5.3619073e+09 | K41: ='3.CSDL Don Gia & Delta Options'!$D$23*(K8+K16+K17+K30) -> 2.4948007e+11 | L41: =K41/119876.45 -> 2081143.3 | M41: =K41/$K$47 -> 0.090909091
B42: V.2 | C42: Dự phòng yếu tố trượt giá trong thời gian thi công | D42: Tạm tính bằng 0 đồng theo phương án tài chính | E42: đồng | F42: =K42*($F$8/$K$8) -> 0 | G42: =F42/45371.85 -> 0 | H42: =K42*($H$8/$K$8) -> 0 | I42: =H42/74504.6 -> 0 | J42: =K42*($J$8/$K$8) -> 0 | K42: 0 | L42: =K42/119876.45 -> 0 | M42: =K42/$K$47 -> 0
...

Sheet 3.CSDL Don Gia & Delta Options
B2: CÔNG TY CỔ PHẦN PHÁT TRIỂN BẤT ĐỘNG SẢN VĂN PHÚ (VPI)
B3: CƠ SỞ DỮ LIỆU ĐƠN GIÁ, ĐỊNH MỨC CHI PHÍ & DELTA TIÊU CHUẨN BÀN GIAO
B4: Căn cứ: Nghị định 10/2021/NĐ-CP, Hồ sơ khái toán TMĐT Trương Định & Dữ liệu mỏ neo NewTech 03HCM008
B6: BẢNG I: TỶ LỆ ĐỊNH MỨC VÀ HỆ SỐ PHÂN BỔ CHI PHÍ MỀM (SOFT COSTS)
B7: STT | C7: Chỉ Tiêu / Loại Chi Phí | D7: Tỷ Lệ / Giá Trị | E7: Đơn Vị | F7: Căn Cứ Pháp Lý & Tính Toán
B8: 1 | C8: Tỷ trọng Chi phí Xây dựng thuần (Gxd / (Gxd + Gtb)) | D8: 0.879423 | E8: Tỷ lệ | F8: Khái toán TMĐT Trương Định (2.089,77 tỷ / 2.376,29 tỷ)
B9: 2 | C9: Tỷ trọng Chi phí Thiết bị thuần (Gtb / (Gxd + Gtb)) | D9: 0.120577 | E9: Tỷ lệ | F9: Khái toán TMĐT Trương Định (286,53 tỷ / 2.376,29 tỷ)
B10: 3 | C10: Định mức Quản lý dự án (Gqlda) | D10: 0.00942 | E10: % (Gxd+Gtb) | F10: Nghị định 10/2021/NĐ-CP & Thông tư 12/2021/TT-BXD
B11: 4 | C11: Thẩm tra dự toán | D11: 0.00044 | E11: % Gxd | F11: Thông tư 12/2021/TT-BXD
B12: 5 | C12: Giám sát thi công xây dựng | D12: 0.00701 | E12: % Gxd | F12: Thông tư 12/2021/TT-BXD
B13: 6 | C13: Giám sát lắp đặt thiết bị | D13: 0.00295 | E13: % Gtb | F13: Thông tư 12/2021/TT-BXD
B14: 7 | C14: Tư vấn thiết kế khác & đặc thù | D14: 0.005 | E14: % (Gxd+Gtb) | F14: Tạm tính khái toán TMĐT
B15: 8 | C15: Bảo hiểm công trình | D15: 0.001 | E15: % Gxd | F15: Thông tư 50/2022/TT-BTC
B16: 9 | C16: Lệ phí thẩm duyệt PCCC | D16: 8e-06 | E16: % TMĐT cơ sở | F16: Thông tư 258/2016/TT-BTC
B17: 10 | C17: Lệ phí thẩm định Báo cáo NCKT (DA) | D17: 2e-05 | E17: % TMĐT cơ sở | F17: Thông tư 28/2023/TT-BTC
B18: 11 | C18: Lệ phí thẩm định thiết kế triển khai sau TKCS | D18: 0.0003 | E18: % Gxd | F18: Thông tư 27/2023/TT-BTC
B19: 12 | C19: Lệ phí thẩm định dự toán | D19: 0.00029 | E19: % Gxd | F19: Thông tư 27/2023/TT-BTC
... B24: 17 | C24: Lãi vay trong thời gian xây dựng (tạm tính) | D24: 0 | E24: % TMĐT | F24: Phương án vốn CĐT
B26: BẢNG II: CƠ SỞ DỮ LIỆU TÙY CHỌN TIÊU CHUẨN BÀN GIAO & BIẾN ĐỘNG CHI PHÍ (DELTA VNĐ)
B27: Mã Option | C27: Tên Tùy Chọn Hiển Thị Trong Dropdown | D27: Delta CT1 (VNĐ) | E27: Delta CT2 (VNĐ) | F27: Bộ Môn Cấu Phần | G27: Quy Cách Kỹ Thuật & Căn Cứ Định Mức
B28: ceiling_ct1_full | C28: Trần thạch cao khung chìm (Chuẩn TĐC) | D28: 0 | E28: 0 | F28: Trần Thạch Cao CT1 | G28: Khung chìm Vĩnh Tường, tấm thạch cao tiêu chuẩn 9mm, sơn Dulux
B29: ceiling_ct1_wc | C29: Chỉ làm trần thạch cao WC & Bếp (-11,50 tỷ) | D29: -11500000000 | E29: 0 | F29: Trần Thạch Cao CT1 | G29: Bỏ trần thạch cao khách/ngủ, chỉ làm trần chống ẩm WC/bếp, sơn bả đáy sàn
B30: ceiling_ct1_none | C30: Không có trần thạch cao (-16,40 tỷ) | D30: -16400000000 | E30: 0 | F30: Trần Thạch Cao CT1 | G30: Bỏ toàn bộ trần thạch cao, chỉ bả matit và sơn trực tiếp đáy sàn bê tông
B31: ceiling_ct2_full | C31: Trần thạch cao giật cấp Vĩnh Tường (Chuẩn NewTech) | D31: 0 | E31: 0 | F31: Trần Thạch Cao CT2 | G31: Chuẩn NewTech: Trần thạch cao khung chìm Vĩnh Tường giật cấp hắt sáng
B32: ceiling_ct2_wc | C32: Chỉ làm trần thạch cao WC & Bếp (-18,90 tỷ) | D32: 0 | E32: -18900000000 | F32: Trần Thạch Cao CT2 | G32: Bỏ trần giật cấp khách/ngủ, chỉ làm trần chống ẩm WC/bếp, sơn bả đáy sàn
B33: ceiling_ct2_none | C33: Không có trần thạch cao (-27,00 tỷ) | D33: 0 | E33: -27000000000 | F33: Trần Thạch Cao CT2 | G33: Bỏ toàn bộ trần thạch cao, chỉ bả matit và sơn trực tiếp đáy sàn bê tông
B34: facade_ct1_xingfa | C34: Nhôm Ngọc Diệp / Xingfa (Chuẩn TĐC) | D34: 0 | E34: 0 | F34: Nhôm Kính CT1 | G34: Khung nhôm hệ Xingfa / Ngọc Diệp, kính an toàn 2 lớp 8.38mm
B35: facade_ct1_vietphap | C35: Việt Pháp (-3,50 tỷ) | D35: -3500000000 | E35: 0 | F35: Nhôm Kính CT1 | G35: Sử dụng nhôm Việt Pháp hệ 450/2600 kinh tế
B36: facade_ct1_lowe | C36: Xingfa Low-E (+5,25 tỷ) | D36: 5250000000 | E36: 0 | F36: Nhôm Kính CT1 | G36: Nâng cấp kính hộp Low-E cản nhiệt cách âm cao cấp
B37: facade_ct2_lowe | C37: BM Windows Low-E (Chuẩn NewTech) | D37: 0 | E37: 0 | F37: Nhôm Kính CT2 | G37: Chuẩn NewTech: Nhôm BM Windows cao cấp + Kính hộp Low-E 24mm cản nhiệt
B38: facade_ct2_schuco | C38: Schuco Đức (+20,50 tỷ) | D38: 0 | E38: 20500000000 | F38: Nhôm Kính CT2 | G38: Hệ mặt dựng & cửa nhôm Schuco nhập khẩu CHLB Đức
B39: facade_ct2_xingfa | C39: Xingfa Thường (-6,25 tỷ) | D39: 0 | E39: -6250000000 | F39: Nhôm Kính CT2 | G39: Hạ cấp xuống hệ nhôm Xingfa kính hộp thường dán an toàn
... B67: elev_schindler | C67: Schindler 5500 Điểm Đến (+8,40 tỷ) | D67: 3600000000 | E67: 4800000000 | F67: Thang Máy | G67: Thang máy Thụy Sĩ tích hợp hệ thống điều khiển chọn điểm đến thông minh

Sheet 2.Tieu Chuan Ban Giao
B2: CÔNG TY CỔ PHẦN PHÁT TRIỂN BẤT ĐỘNG SẢN VĂN PHÚ (VPI)
B3: BẢNG ĐIỀU KHIỂN TIÊU CHUẨN BÀN GIAO & PHÂN RÃ CHI PHÍ THEO 4 BỘ MÔN
B4: Tích hợp Data Validation Dropdown lựa chọn trực tiếp tại từng hạng mục bàn giao, triệt tiêu hoàn toàn hệ số K
B7: THÔNG TIN CẤU PHẦN & HẠNG MỤC | E7: TÒA CT1 — TÁI ĐỊNH CƯ (45.371,85 m2) | I7: TÒA CT2 — THƯƠNG MẠI (74.504,60 m2) | M7: HẠ TẦNG (13.757 m2 đất) | N7: TỔNG HỢP DỰ ÁN (119.876,45 m2) | P7: CĂN CỨ KỸ THUẬT & QUY CÁCH BÀN GIAO
B8: STT / Mã Hiệu | C8: Danh Mục Hạng Mục Cấu Phần Theo 4 Bộ Môn | D8: ĐVT | E8: Giá Cơ Sở CT1 (đ) | F8: Tiêu Chuẩn Bàn Giao CT1 [Dropdown] | G8: Delta CT1 (đ) | H8: Thành Tiền CT1 (đ) | I8: Giá Cơ Sở CT2 (đ) | J8: Tiêu Chuẩn Bàn Giao CT2 [Dropdown] | K8: Delta CT2 (đ) | L8: Thành Tiền CT2 (đ) | M8: Hạ Tầng Ngoài (đ) | N8: Tổng Giá Trị (đ) | O8: Suất ĐT (đ/m2) | P8: Quy Cách Kỹ Thuật & Căn Cứ Lựa Chọn
B9: I | C9: BỘ MÔN 1: KẾT CẤU & PHẦN NGẦM | E9: =SUM(E10:E12) -> 373100000000 | F9: - | G9: =SUM(G10:G12) -> 0 | H9: =SUM(H10:H12) -> 373100000000 | I9: =SUM(I10:I12) -> 612020000000 | J9: - | K9: =SUM(K10:K12) -> 0 | L9: =SUM(L10:L12) -> 612020000000 | M9: =SUM(M10:M12) -> 0 | N9: =SUM(N10:N12) -> 985120000000 | O9: =N9/119876.45 -> 8217794.2 | P9: Bao gồm cọc đại trà, tường vây, 3 tầng hầm và 30 tầng kết cấu thân BTCT
B10: 1.1 | C10: Cọc khoan nhồi đại trà & tường vây hầm | D10: m2 hầm | E10: 116180000000 | F10: - | G10: 0 | H10: =E10+G10 -> 116180000000 | I10: 190580000000 | J10: - | K10: 0 | L10: =I10+K10 -> 190580000000 | M10: 0 | N10: =H10+L10+M10 -> 306760000000 | O10: =N10/119876.45 -> 2558968 | P10: Cọc D1000/1200 + tường vây D800 (Long Giang)
B11: 1.2 | C11: Đào đất móng ngầm & kết cấu BTCT hầm | D11: m2 hầm | E11: 94320000000 | F11: - | G11: 0 | H11: =E11+G11 -> 94320000000 | I11: 154720000000 | J11: - | K11: 0 | L11: =I11+K11 -> 154720000000 | M11: 0 | N11: =H11+L11+M11 -> 249040000000 | O11: =N11/119876.45 -> 2077472.3 | P11: 3 tầng hầm diện tích 28.540 m2
B12: 1.3 | C12: Khung BTCT phần thân (cột, dầm, sàn, lõi vách) | D12: m2 sàn nổi | E12: 162600000000 | F12: - | G12: 0 | H12: =E12+G12 -> 162600000000 | I12: 266720000000 | J12: - | K12: 0 | L12: =I12+K12 -> 266720000000 | M12: 0 | N12: =H12+L12+M12 -> 429320000000 | O12: =N12/119876.45 -> 3581354 | P12: Bê tông B35/B40, cốt thép CB400/500 (30 tầng nổi)
B13: II | C13: BỘ MÔN 2: KIẾN TRÚC & HOÀN THIỆN | E13: =SUM(E14:E19) -> 217450000000 | F13: - | G13: =SUM(G14:G19) -> 0 | H13: =SUM(H14:H19) -> 217450000000 | I13: =SUM(I14:I19) -> 452560000000 | J13: - | K13: =SUM(K14:K19) -> 0 | L13: =SUM(L14:L19) -> 452560000000 | M13: =SUM(M14:M19) -> 0 | N13: =SUM(N14:N19) -> 670010000000 | O13: =N13/119876.45 -> 5589171.2 | P13: Bao gồm xây trát, trần sơn, cửa thép, nhôm kính mặt ngoài, lát sàn và tủ bếp
B14: 2.1 | C14: Xây tường gạch bao che/ngăn, trát & láng nền | D14: m2 sàn | E14: 44000000000 | F14: - | G14: 0 | H14: =E14+G14 -> 44000000000 | I14: 72000000000 | J14: - | K14: 0 | L14: =I14+K14 -> 72000000000 | M14: 0 | N14: =H14+L14+M14 -> 116000000000 | O14: =N14/119876.45 -> 967662.96 | P14: Gạch xi măng cốt liệu, vữa M75
B15: 2.2 | C15: Trần thạch cao khung chìm & sơn bả hoàn thiện | D15: m2 sàn | E15: 27340000000 | F15: Trần thạch cao khung chìm (Chuẩn TĐC) | G15: =IF(F15="-", 0, VLOOKUP(F15, '3.CSDL Don Gia & Delta Options'!$C$28:$G$67, 2, FALSE)) -> 0 | H15: =E15+G15 -> 27340000000 | I15: 45030000000 | J15: Trần thạch cao giật cấp Vĩnh Tường (Chuẩn NewTech) | K15: =IF(J15="-", 0, VLOOKUP(J15, '3.CSDL Don Gia & Delta Options'!$C$28:$G$67, 3, FALSE)) -> 0 | L15: =I15+K15 -> 45030000000 | M15: 0 | N15: =H15+L15+M15 -> 72370000000 | O15: =N15/119876.45 -> 603704.9 | P15: Khung Vĩnh Tường, tấm chống ẩm, sơn Dulux / Tùy chọn bỏ trần
B16: 2.3 | C16: Cửa chính chống cháy & cửa thông phòng căn hộ | D16: m2 căn hộ | E16: 30750000000 | F16: - | G16: 0 | H16: =E16+G16 -> 30750000000 | I16: 70600000000 | J16: - | K16: 0 | L16: =I16+K16 -> 70600000000 | M16: 0 | N16: =H16+L16+M16 -> 101350000000 | O16: =N16/119876.45 -> 845453.8 | P16: Cửa thép Hisung EI60 & cửa gỗ HMP
B17: 2.4 | C17: Cửa sổ, vách kính mặt ngoài & lan can kính | D17: m2 căn hộ | E17: 37760000000 | F17: Nhôm Ngọc Diệp / Xingfa (Chuẩn TĐC) | G17: =IF(F17="-", 0, VLOOKUP(F17, '3.CSDL Don Gia & Delta Options'!$C$28:$G$67, 2, FALSE)) -> 0 | H17: =E17+G17 -> 37760000000 | I17: 86700000000 | J17: BM Windows Low-E (Chuẩn NewTech) | K17: =IF(J17="-", 0, VLOOKUP(J17, '3.CSDL Don Gia & Delta Options'!$C$28:$G$67, 3, FALSE)) -> 0 | L17: =I17+K17 -> 86700000000 | M17: 0 | N17: =H17+L17+M17 -> 124460000000 | O17: =N17/119876.45 -> 1038235.6 | P17: Tùy chọn hệ nhôm Xingfa/Việt Pháp/BM Windows Low-E/Schuco
B18: 2.5 | C18: Hoàn thiện lát sàn gạch Porcelain & sàn gỗ | D18: m2 căn hộ | E18: 46900000000 | F18: Gạch Viglacera (Chuẩn TĐC) | G18: =IF(F18="-", 0, VLOOKUP(F18, '3.CSDL Don Gia & Delta Options'!$C$28:$G$67, 2, FALSE)) -> 0 | H18: =E18+G18 -> 46900000000 | I18: 107800000000 | J18: Gỗ Floordi + 600x1200 (Chuẩn NewTech) | K18: =IF(J18="-", 0, VLOOKUP(J18, '3.CSDL Don Gia & Delta Options'!$C$28:$G$67, 3, FALSE)) -> 0 | L18: =I18+K18 -> 107800000000 | M18: 0 | N18: =H18+L18+M18 -> 154700000000 | O18: =N18/119876.45 -> 1290495.3 | P18: Tùy chọn Gạch Prime/Viglacera/Gỗ Floordi/Marble Ý
B19: 2.6 | C19: Tủ bếp & Thiết bị bếp (Hafele / Bosch) | D19: m2 căn hộ | E19: 30700000000 | F19: Chỉ để đầu chờ, không lắp tủ bếp (Chuẩn TĐC) | G19: =IF(F19="-", 0, VLOOKUP(F19, '3.CSDL Don Gia & Delta Options'!$C$28:$G$67, 2, FALSE)) -> 0 | H19: =E19+G19 -> 30700000000 | I19: 70430000000 | J19: Bếp Cao Cấp Hafele (Chuẩn NewTech) | K19: =IF(J19="-", 0, VLOOKUP(J19, '3.CSDL Don Gia & Delta Options'!$C$28:$G$67, 3, FALSE)) -> 0 | L19: =I19+K19 -> 70430000000 | M19: 0 | N19: =H19+L19+M19 -> 101130000000 | O19: =N19/119876.45 -> 843618.58 | P19: Tùy chọn Bỏ bếp/Tiêu chuẩn An Cường/Cao cấp Hafele Bosch
B20: III | C20: BỘ MÔN 3: CƠ ĐIỆN & THIẾT BỊ CÔNG TRÌNH MEP | E20: =SUM(E21:E24) -> 235370000000 | F20: - | G20: =SUM(G21:G24) -> 0 | H20: =SUM(H21:H24) -> 235370000000 | I20: =SUM(I21:I24) -> 434720000000 | J20: - | K20: =SUM(K21:K24) -> 0 | L20: =SUM(L21:L24) -> 434720000000 | M20: =SUM(M21:M24) -> 0 | N20: =SUM(N21:N24) -> 670090000000 | O20: =N20/119876.45 -> 5589838.5 | P20: Bao gồm hệ thống điện, TBA, cấp thoát nước, TBVS, điều hòa thông gió và thang máy
B21: 3.1 | C21: Hệ thống điện, TBA, máy phát điện, đèn chiếu sáng | D21: m2 sàn | E21: 56500000000 | F21: - | G21: 0 | H21: =E21+G21 -> 56500000000 | I21: 104300000000 | J21: - | K21: 0 | L21: =I21+K21 -> 104300000000 | M21: 0 | N21: =H21+L21+M21 -> 160800000000 | O21: =N21/119876.45 -> 1341381.1 | P21: Trạm biến áp, máy phát dự phòng 100%, chiếu sáng LED
B22: 3.2 | C22: Cấp thoát nước, trạm XLNT & Thiết bị vệ sinh | D22: m2 căn hộ | E22: 38400000000 | F22: Bravat / Caesar (Chuẩn TĐC) | G22: =IF(F22="-", 0, VLOOKUP(F22, '3.CSDL Don Gia & Delta Options'!$C$28:$G$67, 2, FALSE)) -> 0 | H22: =E22+G22 -> 38400000000 | I22: 71000000000 | J22: Toto / Grohe (Chuẩn NewTech) | K22: =IF(J22="-", 0, VLOOKUP(J22, '3.CSDL Don Gia & Delta Options'!$C$28:$G$67, 3, FALSE)) -> 0 | L22: =I22+K22 -> 71000000000 | M22: 0 | N22: =H22+L22+M22 -> 109400000000 | O22: =N22/119876.45 -> 912606.27 | P22: Tùy chọn Bravat/Inax/Toto/Duravit nhập khẩu
B23: 3.3 | C23: Hệ thống điều hòa không khí & thông gió (HVAC) | D23: m2 căn hộ | E23: 44400000000 | F23: Chỉ để đầu chờ ống đồng (Chuẩn TĐC) | G23: =IF(F23="-", 0, VLOOKUP(F23, '3.CSDL Don Gia & Delta Options'!$C$28:$G$67, 2, FALSE)) -> 0 | H23: =E23+G23 -> 44400000000 | I23: 82000000000 | J23: Điều Hòa Daikin VRV âm trần (Chuẩn NewTech) | K23: =IF(J23="-", 0, VLOOKUP(J23, '3.CSDL Don Gia & Delta Options'!$C$28:$G$67, 3, FALSE)) -> 0 | L23: =I23+K23 -> 82000000000 | M23: 0 | N23: =H23+L23+M23 -> 126400000000 | O23: =N23/119876.45 -> 1054418.9 | P23: Tùy chọn Đầu chờ ống đồng/Cục bộ/Multi/Daikin VRV trung tâm
B24: 3.4 | C24: Thang máy hành khách, hệ thống PCCC & An ninh ELV | D24: m2 sàn | E24: 96070000000 | F24: Kone / Otis SkyRise 3.0 m/s Châu Âu (NewTech) | G24: =IF(F24="-", 0, VLOOKUP(F24, '3.CSDL Don Gia & Delta Options'!$C$28:$G$67, 2, FALSE)) -> 0 | H24: =E24+G24 -> 96070000000 | I24: 177420000000 | J24: Đồng bộ theo lựa chọn CT1 | K24: =IF(F24="-", 0, VLOOKUP(F24, '3.CSDL Don Gia & Delta Options'!$C$28:$G$67, 3, FALSE)) -> 0 | L24: =I24+K24 -> 177420000000 | M24: 0 | N24: =H24+L24+M24 -> 273490000000 | O24: =N24/119876.45 -> 2281432.3 | P24: Tùy chọn Kone Otis 3.0m/s / Mitsubishi 2.5m/s / Schindler 5500
B25: IV | C25: BỘ MÔN 4: HẠ TẦNG KỸ THUẬT & CẢNH QUAN | E25: =SUM(E26:E27) -> 0 | F25: - | G25: =SUM(G26:G27) -> 0 | H25: =SUM(H26:H27) -> 0 | I25: =SUM(I26:I27) -> 0 | J25: - | K25: =SUM(K26:K27) -> 0 | L25: =SUM(L26:L27) -> 0 | M25: =SUM(M26:M27) -> 51072044799 | N25: =SUM(N26:N27) -> 51072044799 | O25: =N25/119876.45 -> 426039.02 | P25: Đường nội bộ, sân vườn cảnh quan cây xanh và trạm điện ngoài nhà
B26: 4.1 | C26: Đường nội bộ, cảnh quan cây xanh ngoài ranh | D26: m2 đất | E26: 0 | F26: - | G26: 0 | H26: =E26+G26 -> 0 | I26: 0 | J26: - | K26: 0 | L26: =I26+K26 -> 0 | M26: 51072044799 | N26: =H26+L26+M26 -> 51072044799 | O26: =N26/119876.45 -> 426039.02 | P26: Sân đường nội bộ, cây xanh, trạm hạ thế 13.757 m2 đất
B27: 4.2 | C27: Dự phòng & chi phí chung khác trong XD | D27: m2 sàn | E27: 0 | F27: - | G27: 0 | H27: =E27+G27 -> 0 | I27: 0 | J27: - | K27: 0 | L27: =I27+K27 -> 0 | M27: 0 | N27: =H27+L27+M27 -> 0 | O27: =N27/119876.45 -> 0 | P27: Phân bổ theo từng gói thầu cụ thể
B28: TỔNG | C28: TỔNG CỘNG CHI PHÍ XÂY DỰNG VÀ THIẾT BỊ (4 BỘ MÔN): | D28: đồng | E28: =E9+E13+E20+E25 -> 825920000000 | F28: - | G28: =G9+G13+G20+G25 -> 0 | H28: =H9+H13+H20+H25 -> 825920000000 | I28: =I9+I13+I20+I25 -> 1499300000000 | J28: - | K28: =K9+K13+K20+K25 -> 0 | L28: =L9+L13+L20+L25 -> 1499300000000 | M28: =M9+M13+M20+M25 -> 51072044799 | N28: =N9+N13+N20+N25 -> 2376292044799 | O28: =N28/119876.45 -> 19822843 | P28: Chuyển toàn bộ sang Dòng I Sheet 1 (Bang Tong Hop TMDT)

Sheet 4.Doi Soat Khai Toan TMDT
B2: CÔNG TY CỔ PHẦN PHÁT TRIỂN BẤT ĐỘNG SẢN VĂN PHÚ (VPI)
B3: BẢNG ĐỐI SOÁT CHI TIẾT TỔNG MỨC ĐẦU TƯ: HỒ SƠ KHÁI TOÁN GỐC VS MÔ HÌNH ĐỘNG
B4: Căn cứ đối soát: File 03. Hồ sơ khái toán TMĐT.pdf (Mốc: 2.744.531.107.679 đ, Suất: 22.894.664 đ/m2 sàn)
B6: STT | C6: Khoản Mục Chi Phí TMĐT | D6: Hồ Sơ Khái Toán Gốc (đồng) | E6: Mô Hình Động Hiện Tại (đồng) | F6: Chênh Lệch (+/- đồng) | G6: Tỷ Lệ Biến Động (%) | H6: Đánh Giá Khớp Nối | I6: Ghi Chú Nghiệp Vụ
B7: I | C7: Chi phí Xây dựng và Thiết bị (Gxd + Gtb) | D7: 2376292044799 | E7: ='1.Bang Tong Hop TMDT'!K8 -> 2376292044799 | F7: =E7-D7 -> 0 | G7: =IF(D7=0, 0, F7/D7) -> 0 | H7: =IF(ABS(F7)<1000000, "✅ KHỚP CHUẨN", IF(F7>0, "🔺 TĂNG CHI PHÍ", "🔻 TIẾT GIẢM CHI PHÍ")) -> ✅ KHỚP CHUẨN | I7: Bao gồm 7 khối công tác thi công và hạ tầng ngoài nhà
B8: II | C8: Chi phí Quản lý dự án (Gqlda) | D8: 22384671062 | E8: ='1.Bang Tong Hop TMDT'!K16 -> 2.2384671e+10 | F8: =E8-D8 -> 0.0065803528 | G8: =IF(D8=0, 0, F8/D8) -> 2.9396692e-13 | H8: =IF(ABS(F8)<1000000, "✅ KHỚP CHUẨN", IF(F8>0, "🔺 TĂNG CHI PHÍ", "🔻 TIẾT GIẢM CHI PHÍ")) -> ✅ KHỚP CHUẨN | I8: Định mức Nghị định 10/2021/NĐ-CP (0,9420%)
B9: III | C9: Chi phí Tư vấn đầu tư xây dựng (Gtv) | D9: 46835744089 | E9: ='1.Bang Tong Hop TMDT'!K17 -> 46835744089 | F9: =E9-D9 -> 0 | G9: =IF(D9=0, 0, F9/D9) -> 0 | H9: =IF(ABS(F9)<1000000, "✅ KHỚP CHUẨN", IF(F9>0, "🔺 TĂNG CHI PHÍ", "🔻 TIẾT GIẢM CHI PHÍ")) -> ✅ KHỚP CHUẨN | I9: Gồm 12 mục con theo các hợp đồng đã ký và định mức
B10: IV | C10: Chi phí Khác (Gk) | D10: 49288285754 | E10: ='1.Bang Tong Hop TMDT'!K30 -> 49288285754 | F10: =E10-D10 -> 0 | G10: =IF(D10=0, 0, F10/D10) -> 0 | H10: =IF(ABS(F10)<1000000, "✅ KHỚP CHUẨN", IF(F10>0, "🔺 TĂNG CHI PHÍ", "🔻 TIẾT GIẢM CHI PHÍ")) -> ✅ KHỚP CHUẨN | I10: Gồm 9 mục con lệ phí nhà nước, bảo hiểm và hạ tầng
B11: V | C11: Chi phí Dự phòng (Gdp) | D11: 249502827971 | E11: ='1.Bang Tong Hop TMDT'!K40 -> 2.4948007e+11 | F11: =E11-D11 -> -22753401 | G11: =IF(D11=0, 0, F11/D11) -> -9.1194961e-05 | H11: =IF(ABS(F11)<1000000, "✅ KHỚP CHUẨN", IF(F11>0, "🔺 TĂNG CHI PHÍ", "🔻 TIẾT GIẢM CHI PHÍ")) -> 🔻 TIẾT GIẢM CHI PHÍ | I11: Dự phòng 10% theo quy định Nghị định 10/2021
B12: VI | C12: Chi phí Lãi vay trong thời gian XD | D12: 0 | E12: ='1.Bang Tong Hop TMDT'!K43 -> 0 | F12: =E12-D12 -> 0 | G12: =IF(D12=0, 0, F12/D12) -> 0 | H12: =IF(ABS(F12)<1000000, "✅ KHỚP CHUẨN", IF(F12>0, "🔺 TĂNG CHI PHÍ", "🔻 TIẾT GIẢM CHI PHÍ")) -> ✅ KHỚP CHUẨN | I12: Tạm tính 0 đồng trong hồ sơ khái toán
B13: TỔNG | C13: TỔNG MỨC ĐẦU TƯ TOÀN DỰ ÁN TRƯƠNG ĐỊNH: | D13: 2744531107679 | E13: ='1.Bang Tong Hop TMDT'!K47 -> 2.7442808e+12 | F13: =E13-D13 -> -2.502874e+08 | G13: =F13/D13 -> -9.119496e-05 | H13: =IF(ABS(F13)<500000000, "✅ KHỚP KHÁI TOÁN (Sai lệch < 0.01%)", "ĐANG ĐIỀU CHỈNH OPTION") -> ✅ KHỚP KHÁI TOÁN (Sai lệch < 0.01%) | I13: Mốc chuẩn đối soát hồ sơ Trương Định 01HNI023

Sheet 5.Noi Suy Dinh Muc TT36
B2: CÔNG TY CỔ PHẦN PHÁT TRIỂN BẤT ĐỘNG SẢN VĂN PHÚ (VPI)
B3: BẢNG TÍNH NỘI SUY & NGOẠI SUY ĐỊNH MỨC CHI PHÍ QUẢN LÝ DỰ ÁN VÀ TƯ VẤN ĐẦU TƯ XÂY DỰNG
B4: Căn cứ: Phụ lục VIII ban hành kèm theo Thông tư số 38/2026/TT-BXD (36/2026/TT-BXD) ngày 26/06/2026 của Bộ Xây dựng
B6: PHẦN I: BẢNG TÍNH NỘI SUY / NGOẠI SUY TỰ ĐỘNG THEO QUY MÔ DỰ ÁN TRƯƠNG ĐỊNH (01HNI023)
B7: STT | C7: Khoản Mục Định Mức Chi Phí | D7: Bảng Tra Cứu | E7: Cơ Sở Xác Định Quy Mô & Căn Cứ Thuế | F7: Quy Mô Chưa Thuế G_t (tỷ đ) | G7: Mốc Cận Dưới G_b (tỷ đ) | H7: Định Mức Cận Dưới N_b (%) | I7: Mốc Cận Trên G_a (tỷ đ) | J7: Định Mức Cận Trên N_a (%) | K7: Định Mức Nội/Ngoại Suy N_t (%) | L7: Định Mức Đang Dùng Khái Toán (%) | M7: Chênh Lệch (+/- %) | N7: Phương Pháp Xác Định
B8: 1 | C8: Chi phí Quản lý dự án (Gqlda) | D8: Bảng 1.1 | E8: Chi phí xây dựng + thiết bị (CHƯA THUẾ GTGT) | F8: ='1.Bang Tong Hop TMDT'!K8 / 1.1 / 1000000000 -> 2160.2655 | G8: =IF(F8<=$C$20, $C$20, INDEX($C$20:$N$20, MATCH(F8, $C$20:$N$20, 1))) -> 2000 | H8: =IF(F8<=$C$20, $C$21/100, INDEX($C$21:$N$21, MATCH(F8, $C$20:$N$20, 1))/100) -> 0.0095 | I8: =IF(F8<=$C$20, $D$20, IF(F8>=$N$20, $N$20, INDEX($C$20:$N$20, MATCH(F8, $C$20:$N$20, 1)+1))) -> 5000 | J8: =IF(F8<=$C$20, $D$21/100, IF(F8>=$N$20, $N$21/100, INDEX($C$21:$N$21, MATCH(F8, $C$20:$N$20, 1)+1)/100)) -> 0.0081 | K8: =IF(F8<=$C$20, $C$21/100, IF(F8>=$N$20, ($N$21 - ($M$21-$N$21)/($N$20-$M$20)*(F8-$N$20))/100, H8 - (H8-J8)/(I8-G8)*(F8-G8))) -> 0.0094252094 | L8: ='3.CSDL Don Gia & Delta Options'!$D$10 -> 0.00942 | M8: =K8-L8 -> 5.2094355e-06 | N8: =IF(F8<=$C$20, "Mốc tối thiểu (" & $C$20 & " tỷ)", IF(F8>=$N$20, "Ngoại suy trên mốc " & $N$20 & " tỷ", "Nội suy giữa " & G8 & " và " & I8 & " tỷ")) -> Nội suy giữa 2000 và 5000 tỷ
B9: 2 | C9: Thẩm tra dự toán xây dựng công trình | D9: Bảng 2.20 | E9: Chi phí xây dựng thuần (CHƯA THUẾ GTGT) | F9: ='1.Bang Tong Hop TMDT'!K8 * '3.CSDL Don Gia & Delta Options'!$D$8 / 1.1 / 1000000000 -> 1899.7872 | G9: =IF(F9<=$C$24, $C$24, INDEX($C$24:$M$24, MATCH(F9, $C$24:$M$24, 1))) -> 1000 | H9: =IF(F9<=$C$24, $C$25/100, INDEX($C$25:$M$25, MATCH(F9, $C$24:$M$24, 1))/100) -> 0.00048 | I9: =IF(F9<=$C$24, $D$24, IF(F9>=$M$24, $M$24, INDEX($C$24:$M$24, MATCH(F9, $C$24:$M$24, 1)+1))) -> 2000 | J9: =IF(F9<=$C$24, $D$25/100, IF(F9>=$M$24, $M$25/100, INDEX($C$25:$M$25, MATCH(F9, $C$24:$M$24, 1)+1)/100)) -> 0.00045 | K9: =IF(F9<=$C$24, $C$25/100, IF(F9>=$M$24, ($M$25 - ($L$25-$M$25)/($M$24-$L$24)*(F9-$M$24))/100, H9 - (H9-J9)/(I9-G9)*(F9-G9))) -> 0.00045300639 | L9: ='3.CSDL Don Gia & Delta Options'!$D$11 -> 0.00044 | M9: =K9-L9 -> 1.3006385e-05 | N9: =IF(F9<=$C$24, "Mốc tối thiểu (" & $C$24 & " tỷ)", IF(F9>=$M$24, "Ngoại suy trên mốc " & $M$24 & " tỷ", "Nội suy giữa " & G9 & " và " & I9 & " tỷ")) -> Nội suy giữa 1000 và 2000 tỷ
B10: 3 | C10: Thẩm tra thiết kế xây dựng công trình | D10: Bảng 2.19 | E10: Chi phí xây dựng thuần (CHƯA THUẾ GTGT) | F10: ='1.Bang Tong Hop TMDT'!K8 * '3.CSDL Don Gia & Delta Options'!$D$8 / 1.1 / 1000000000 -> 1899.7872 | G10: =IF(F10<=$C$28, $C$28, INDEX($C$28:$M$28, MATCH(F10, $C$28:$M$28, 1))) -> 1000 | H10: =IF(F10<=$C$28, $C$29/100, INDEX($C$29:$M$29, MATCH(F10, $C$28:$M$28, 1))/100) -> 0.0005 | I10: =IF(F10<=$C$28, $D$28, IF(F10>=$M$28, $M$28, INDEX($C$28:$M$28, MATCH(F10, $C$28:$M$28, 1)+1))) -> 2000 | J10: =IF(F10<=$C$28, $D$29/100, IF(F10>=$M$28, $M$29/100, INDEX($C$29:$M$29, MATCH(F10, $C$28:$M$28, 1)+1)/100)) -> 0.00046 | K10: =IF(F10<=$C$28, $C$29/100, IF(F10>=$M$28, ($M$29 - ($L$29-$M$29)/($M$28-$L$28)*(F10-$M$28))/100, H10 - (H10-J10)/(I10-G10)*(F10-G10))) -> 0.00046400851 | L10: ='3.CSDL Don Gia & Delta Options'!$D$18 -> 0.0003 | M10: =K10-L10 -> 0.00016400851 | N10: =IF(F10<=$C$28, "Mốc tối thiểu (" & $C$28 & " tỷ)", IF(F10>=$M$28, "Ngoại suy trên mốc " & $M$28 & " tỷ", "Nội suy giữa " & G10 & " và " & I10 & " tỷ")) -> Nội suy giữa 1000 và 2000 tỷ
B11: 4 | C11: Giám sát thi công xây dựng công trình | D11: Bảng 2.24 | E11: Chi phí xây dựng thuần (CHƯA THUẾ GTGT) | F11: ='1.Bang Tong Hop TMDT'!K8 * '3.CSDL Don Gia & Delta Options'!$D$8 / 1.1 / 1000000000 -> 1899.7872 | G11: =IF(F11<=$C$32, $C$32, INDEX($C$32:$M$32, MATCH(F11, $C$32:$M$32, 1))) -> 1000 | H11: =IF(F11<=$C$32, $C$33/100, INDEX($C$33:$M$33, MATCH(F11, $C$32:$M$32, 1))/100) -> 0.0077 | I11: =IF(F11<=$C$32, $D$32, IF(F11>=$M$32, $M$32, INDEX($C$32:$M$32, MATCH(F11, $C$32:$M$32, 1)+1))) -> 2000 | J11: =IF(F11<=$C$32, $D$33/100, IF(F11>=$M$32, $M$33/100, INDEX($C$33:$M$33, MATCH(F11, $C$32:$M$32, 1)+1)/100)) -> 0.007 | K11: =IF(F11<=$C$32, $C$33/100, IF(F11>=$M$32, ($M$33 - ($L$33-$M$33)/($M$32-$L$32)*(F11-$M$32))/100, H11 - (H11-J11)/(I11-G11)*(F11-G11))) -> 0.007070149 | L11: ='3.CSDL Don Gia & Delta Options'!$D$12 -> 0.00701 | M11: =K11-L11 -> 6.0148986e-05 | N11: =IF(F11<=$C$32, "Mốc tối thiểu (" & $C$32 & " tỷ)", IF(F11>=$M$32, "Ngoại suy trên mốc " & $M$32 & " tỷ", "Nội suy giữa " & G11 & " và " & I11 & " tỷ")) -> Nội suy giữa 1000 và 2000 tỷ
B12: 5 | C12: Giám sát lắp đặt thiết bị công trình | D12: Bảng 2.25 | E12: Chi phí thiết bị thuần (CHƯA THUẾ GTGT) | F12: ='1.Bang Tong Hop TMDT'!K8 * '3.CSDL Don Gia & Delta Options'!$D$9 / 1.1 / 1000000000 -> 260.47833 | G12: =IF(F12<=$C$36, $C$36, INDEX($C$36:$M$36, MATCH(F12, $C$36:$M$36, 1))) -> 200 | H12: =IF(F12<=$C$36, $C$37/100, INDEX($C$37:$M$37, MATCH(F12, $C$36:$M$36, 1))/100) -> 0.0039 | I12: =IF(F12<=$C$36, $D$36, IF(F12>=$M$36, $M$36, INDEX($C$36:$M$36, MATCH(F12, $C$36:$M$36, 1)+1))) -> 500 | J12: =IF(F12<=$C$36, $D$37/100, IF(F12>=$M$36, $M$37/100, INDEX($C$37:$M$37, MATCH(F12, $C$36:$M$36, 1)+1)/100)) -> 0.0032 | K12: =IF(F12<=$C$36, $C$37/100, IF(F12>=$M$36, ($M$37 - ($L$37-$M$37)/($M$36-$L$36)*(F12-$M$36))/100, H12 - (H12-J12)/(I12-G12)*(F12-G12))) -> 0.0037588839 | L12: ='3.CSDL Don Gia & Delta Options'!$D$13 -> 0.00295 | M12: =K12-L12 -> 0.00080888389 | N12: =IF(F12<=$C$36, "Mốc tối thiểu (" & $C$36 & " tỷ)", IF(F12>=$M$36, "Ngoại suy trên mốc " & $M$36 & " tỷ", "Nội suy giữa " & G12 & " và " & I12 & " tỷ")) -> Nội suy giữa 200 và 500 tỷ
B13: 6 | C13: Lập Báo cáo nghiên cứu khả thi (BCNCKT) | D13: Bảng 2.3 | E13: Chi phí xây dựng + thiết bị (CHƯA THUẾ GTGT) | F13: ='1.Bang Tong Hop TMDT'!K8 / 1.1 / 1000000000 -> 2160.2655 | G13: =IF(F13<=$C$40, $C$40, INDEX($C$40:$N$40, MATCH(F13, $C$40:$N$40, 1))) -> 2000 | H13: =IF(F13<=$C$40, $C$41/100, INDEX($C$41:$N$41, MATCH(F13, $C$40:$N$40, 1))/100) -> 0.0031 | I13: =IF(F13<=$C$40, $D$40, IF(F13>=$N$40, $N$40, INDEX($C$40:$N$40, MATCH(F13, $C$40:$N$40, 1)+1))) -> 5000 | J13: =IF(F13<=$C$40, $D$41/100, IF(F13>=$N$40, $N$41/100, INDEX($C$41:$N$41, MATCH(F13, $C$40:$N$40, 1)+1)/100)) -> 0.0026 | K13: =IF(F13<=$C$40, $C$41/100, IF(F13>=$N$40, ($N$41 - ($M$41-$N$41)/($N$40-$M$40)*(F13-$N$40))/100, H13 - (H13-J13)/(I13-G13)*(F13-G13))) -> 0.0030732891 | L13: HĐ 2507/2025 | M13: — | N13: =IF(F13<=$C$40, "Mốc tối thiểu (" & $C$40 & " tỷ)", IF(F13>=$N$40, "Ngoại suy trên mốc " & $N$40 & " tỷ", "Nội suy giữa " & G13 & " và " & I13 & " tỷ")) -> Nội suy giữa 2000 và 5000 tỷ
B14: 7 | C14: Thẩm tra Báo cáo nghiên cứu khả thi | D14: Bảng 2.18 | E14: Chi phí xây dựng + thiết bị (CHƯA THUẾ GTGT) | F14: ='1.Bang Tong Hop TMDT'!K8 / 1.1 / 1000000000 -> 2160.2655 | G14: =IF(F14<=$C$44, $C$44, INDEX($C$44:$N$44, MATCH(F14, $C$44:$N$44, 1))) -> 2000 | H14: =IF(F14<=$C$44, $C$45/100, INDEX($C$45:$N$45, MATCH(F14, $C$44:$N$44, 1))/100) -> 0.00045 | I14: =IF(F14<=$C$44, $D$44, IF(F14>=$N$44, $N$44, INDEX($C$44:$N$44, MATCH(F14, $C$44:$N$44, 1)+1))) -> 5000 | J14: =IF(F14<=$C$44, $D$45/100, IF(F14>=$N$44, $N$45/100, INDEX($C$45:$N$45, MATCH(F14, $C$44:$N$44, 1)+1)/100)) -> 0.00038 | K14: =IF(F14<=$C$44, $C$45/100, IF(F14>=$N$44, ($N$45 - ($M$45-$N$45)/($N$44-$M$44)*(F14-$N$44))/100, H14 - (H14-J14)/(I14-G14)*(F14-G14))) -> 0.00044626047 | L14: HĐ 0605/2026 | M14: — | N14: =IF(F14<=$C$44, "Mốc tối thiểu (" & $C$44 & " tỷ)", IF(F14>=$N$44, "Ngoại suy trên mốc " & $N$44 & " tỷ", "Nội suy giữa " & G14 & " và " & I14 & " tỷ")) -> Nội suy giữa 2000 và 5000 tỷ
B17: PHẦN II: DỮ LIỆU SỐ HÓA CÁC BẢNG ĐỊNH MỨC GỐC PHỤ LỤC VIII THÔNG TƯ 38/2026/TT-BXD (BỘ XÂY DỰNG)
B19: BẢNG 1.1: ĐỊNH MỨC CHI PHÍ QUẢN LÝ DỰ ÁN (CÔNG TRÌNH DÂN DỤNG CẤP I)
B20: Quy mô chi phí (tỷ đồng) | C20: 10 | D20: 20 | E20: 50 | F20: 100 | G20: 200 | H20: 500 | I20: 1000 | J20: 2000 | K20: 5000 | L20: 10000 | M20: 20000 | N20: 30000
B21: Định mức tỷ lệ (%) | C21: 3.276 | D21: 2.766 | E21: 2.109 | F21: 1.636 | G21: 1.341 | H21: 1.161 | I21: 0.998 | J21: 0.95 | K21: 0.81 | L21: 0.63 | M21: 0.44 | N21: 0.35
B23: BẢNG 2.20: ĐỊNH MỨC CHI PHÍ THẨM TRA DỰ TOÁN XÂY DỰNG CÔNG TRÌNH
B24: Quy mô chi phí (tỷ đồng) | C24: 10 | D24: 20 | E24: 50 | F24: 100 | G24: 200 | H24: 500 | I24: 1000 | J24: 2000 | K24: 5000 | L24: 10000 | M24: 15000
B25: Định mức tỷ lệ (%) | C25: 0.17 | D25: 0.144 | E25: 0.109 | F25: 0.084 | G25: 0.068 | H25: 0.057 | I25: 0.048 | J25: 0.045 | K25: 0.038 | L25: 0.029 | M25: 0.023
B27: BẢNG 2.19: ĐỊNH MỨC CHI PHÍ THẨM TRA THIẾT KẾ XÂY DỰNG CÔNG TRÌNH
B28: Quy mô chi phí (tỷ đồng) | C28: 10 | D28: 20 | E28: 50 | F28: 100 | G28: 200 | H28: 500 | I28: 1000 | J28: 2000 | K28: 5000 | L28: 10000 | M28: 15000
B29: Định mức tỷ lệ (%) | C29: 0.18 | D29: 0.151 | E29: 0.114 | F29: 0.088 | G29: 0.071 | H29: 0.059 | I29: 0.05 | J29: 0.046 | K29: 0.039 | L29: 0.03 | M29: 0.024
B31: BẢNG 2.24: ĐỊNH MỨC CHI PHÍ GIÁM SÁT THI CÔNG XÂY DỰNG CÔNG TRÌNH
B32: Quy mô chi phí (tỷ đồng) | C32: 10 | D32: 20 | E32: 50 | F32: 100 | G32: 200 | H32: 500 | I32: 1000 | J32: 2000 | K32: 5000 | L32: 10000 | M32: 15000
B33: Định mức tỷ lệ (%) | C33: 2.45 | D33: 2.15 | E33: 1.7 | F33: 1.34 | G33: 1.1 | H33: 0.9 | I33: 0.77 | J33: 0.7 | K33: 0.58 | L33: 0.45 | M33: 0.35
B35: BẢNG 2.25: ĐỊNH MỨC CHI PHÍ GIÁM SÁT LẮP ĐẶT THIẾT BỊ CÔNG TRÌNH
B36: Quy mô chi phí (tỷ đồng) | C36: 10 | D36: 20 | E36: 50 | F36: 100 | G36: 200 | H36: 500 | I36: 1000 | J36: 2000 | K36: 5000 | L36: 10000 | M36: 15000
B37: Định mức tỷ lệ (%) | C37: 0.85 | D37: 0.75 | E37: 0.6 | F37: 0.48 | G37: 0.39 | H37: 0.32 | I37: 0.27 | J37: 0.24 | K37: 0.19 | L37: 0.14 | M37: 0.1
B39: BẢNG 2.3: ĐỊNH MỨC CHI PHÍ LẬP BÁO CÁO NGHIÊN CỨU KHẢ THI (BCNCKT)
B40: Quy mô chi phí (tỷ đồng) | C40: 10 | D40: 20 | E40: 50 | F40: 100 | G40: 200 | H40: 500 | I40: 1000 | J40: 2000 | K40: 5000 | L40: 10000 | M40: 20000 | N40: 30000
B41: Định mức tỷ lệ (%) | C41: 1.15 | D41: 0.98 | E41: 0.76 | F41: 0.59 | G41: 0.48 | H41: 0.4 | I41: 0.34 | J41: 0.31 | K41: 0.26 | L41: 0.2 | M41: 0.14 | N41: 0.11
B43: BẢNG 2.18: ĐỊNH MỨC CHI PHÍ THẨM TRA BÁO CÁO NGHIÊN CỨU KHẢ THI
B44: Quy mô chi phí (tỷ đồng) | C44: 10 | D44: 20 | E44: 50 | F44: 100 | G44: 200 | H44: 500 | I44: 1000 | J44: 2000 | K44: 5000 | L44: 10000 | M44: 20000 | N44: 30000
B45: Định mức tỷ lệ (%) | C45: 0.17 | D45: 0.144 | E45: 0.109 | F45: 0.084 | G45: 0.068 | H45: 0.057 | I45: 0.048 | J45: 0.045 | K45: 0.038 | L45: 0.029 | M45: 0.02 | N45: 0.016
